BEGIN:VCALENDAR
PRODID:-//Ben Fortuna//iCal4j 1.0//EN
VERSION:2.0
CALSCALE:GREGORIAN
BEGIN:VTIMEZONE
TZID:Europe/Berlin
LAST-MODIFIED:20201010T011803Z
TZURL:http://tzurl.org/zoneinfo/Europe/Berlin
X-LIC-LOCATION:Europe/Berlin
X-PROLEPTIC-TZNAME:LMT
BEGIN:STANDARD
TZNAME:CET
TZOFFSETFROM:+005328
TZOFFSETTO:+0100
DTSTART:18930401T000000
END:STANDARD
BEGIN:DAYLIGHT
TZNAME:CEST
TZOFFSETFROM:+0100
TZOFFSETTO:+0200
DTSTART:19160430T230000
RDATE:19400401T020000
RDATE:19430329T020000
RDATE:19460414T020000
RDATE:19470406T030000
RDATE:19480418T020000
RDATE:19490410T020000
RDATE:19800406T020000
END:DAYLIGHT
BEGIN:STANDARD
TZNAME:CET
TZOFFSETFROM:+0200
TZOFFSETTO:+0100
DTSTART:19161001T010000
RDATE:19421102T030000
RDATE:19431004T030000
RDATE:19441002T030000
RDATE:19451118T030000
RDATE:19461007T030000
END:STANDARD
BEGIN:DAYLIGHT
TZNAME:CEST
TZOFFSETFROM:+0100
TZOFFSETTO:+0200
DTSTART:19170416T020000
RRULE:FREQ=YEARLY;UNTIL=19180415T010000Z;BYMONTH=4;BYDAY=3MO
END:DAYLIGHT
BEGIN:STANDARD
TZNAME:CET
TZOFFSETFROM:+0200
TZOFFSETTO:+0100
DTSTART:19170917T030000
RRULE:FREQ=YEARLY;UNTIL=19180916T010000Z;BYMONTH=9;BYDAY=3MO
END:STANDARD
BEGIN:DAYLIGHT
TZNAME:CEST
TZOFFSETFROM:+0100
TZOFFSETTO:+0200
DTSTART:19440403T020000
RRULE:FREQ=YEARLY;UNTIL=19450402T010000Z;BYMONTH=4;BYDAY=1MO
END:DAYLIGHT
BEGIN:DAYLIGHT
TZNAME:CEMT
TZOFFSETFROM:+0200
TZOFFSETTO:+0300
DTSTART:19450524T020000
RDATE:19470511T030000
END:DAYLIGHT
BEGIN:DAYLIGHT
TZNAME:CEST
TZOFFSETFROM:+0300
TZOFFSETTO:+0200
DTSTART:19450924T030000
RDATE:19470629T030000
END:DAYLIGHT
BEGIN:STANDARD
TZNAME:CET
TZOFFSETFROM:+0100
TZOFFSETTO:+0100
DTSTART:19460101T000000
RDATE:19800101T000000
END:STANDARD
BEGIN:STANDARD
TZNAME:CET
TZOFFSETFROM:+0200
TZOFFSETTO:+0100
DTSTART:19471005T030000
RRULE:FREQ=YEARLY;UNTIL=19491002T010000Z;BYMONTH=10;BYDAY=1SU
END:STANDARD
BEGIN:STANDARD
TZNAME:CET
TZOFFSETFROM:+0200
TZOFFSETTO:+0100
DTSTART:19800928T030000
RRULE:FREQ=YEARLY;UNTIL=19950924T010000Z;BYMONTH=9;BYDAY=-1SU
END:STANDARD
BEGIN:DAYLIGHT
TZNAME:CEST
TZOFFSETFROM:+0100
TZOFFSETTO:+0200
DTSTART:19810329T020000
RRULE:FREQ=YEARLY;BYMONTH=3;BYDAY=-1SU
END:DAYLIGHT
BEGIN:STANDARD
TZNAME:CET
TZOFFSETFROM:+0200
TZOFFSETTO:+0100
DTSTART:19961027T030000
RRULE:FREQ=YEARLY;BYMONTH=10;BYDAY=-1SU
END:STANDARD
END:VTIMEZONE
BEGIN:VEVENT
DTSTAMP:20260421T182014Z
DTSTART;VALUE=DATE:20260505
DTEND;VALUE=DATE:20260506
SUMMARY:18. Fachkonferenz „Kommunen aktiv für den Klimaschutz“ am 05. Mai
  2026 in Bonn
CREATED:20260127T142011Z
LAST-MODIFIED:20260128T074022Z
DESCRIPTION:Der DStGB veranstaltet auch im Jahr 2025 die Fachkonferenz „K
 ommunen aktiv für den Klimaschutz“. Die nunmehr 18. Fachkonferenz wird a
 m 05. Mai 2026 im Wissenschaftszentrum in Bonn stattfinden. Als Partner 
 der Veranstaltung sind der Städte- und Gemeindebund Nordrhein-Westfalen\
 , die Kommunalagentur NRW\, der Gemeinde- und Städtebund Rheinland-Pfalz
  sowie die Kommunale Umwelt-Aktion Niedersachsen (U.A.N.) mit dabei.\n\n
 Immer häufiger auftretende Extremwetterereignisse in Deutschland und Eur
 opa machen einmal mehr deutlich\, dass wir uns weiter stark bei den Them
 en Klimaschutz und Klimaanpassung engagieren müssen.\n\nAuf der 18. DStG
 B-Klimaschutzkonferenz 2026 werden im Rahmen von Vorträgen\, Fachforen u
 nd Diskussionen erneut praxisnahe Beispiele zum Klimaschutz und zur Klim
 aanpassung\, zur Mobilitäts- und Wärmewende und zur Nachhaltigkeit vorge
 stellt. Auch die wichtigen Themen Waldmanagement und Energieeffizienz we
 rden in diesem Jahr beleuchtet und ihre Rolle für klimaresiliente\, zuku
 nftsfähige Kommunen gemeinsam diskutiert.\n\nNeben Swen Christian\, Bürg
 ermeister der Gemeinde Wachtberg\, werden unter anderem Dr. André Berghe
 gger\, Hauptgeschäftsführer des DStGB\, Sven Plöger\, Dipl. -Meteorologe
 \, Buchautor und Klimaexperte\, Michael Bergöö\, Regionalleiter DACH bei
  Climate View\, RA Dr. Maximilian Dombert\, DOMBERT Rechtsanwälte Partne
 rschaftsgesellschaft mbB\, Dr. Christian Schwirten\, Verband der öffentl
 ichen Versicherer und Dr. Michael Six\, Geschäftsführer & Chief Sustaina
 bility Officer bei GOLDBECK Nord GmbH als Vortragende an der Konferenz t
 eilnehmen.\n\nDer DStGB lädt alle Interessierten herzlich zur DStGB-Klim
 aschutzkonferenz 2026 nach Bonn ein! Anmeldungen sind ab sofort möglich.
 \n\nDer Teilnahmepreis beträgt 199\,00 Euro brutto.\n\nDas Programm der 
 18. DStGB-Klimaschutzkonferenz findet sich unter folgendem Link: Program
 m 18. DStGB-Klimaschutzkonferenz 2026\n\nDie Möglichkeit zur Anmeldung f
 indet sich unter: Anmeldung 18. DStGB-Klimaschutzkonferenz 2026“
LOCATION:Wissenschaftszentrum Bonn
X-LOCATION-NAME:Wissenschaftszentrum Bonn
X-STREET-ADDRESS:Ahrstraße 45
X-POSTAL-CODE:53175
X-LOCALITY:Bonn
URL:https://www.congressundpresse.de/klimaschutzkonferenz-2026
ATTACH;FMTTYPE=image/jpeg;X-COPYRIGHT="jozsitoeroe – stock.adobe.com":htt
 ps://www.gstbrp.de/publikationen/aktuelles/2026/18-fachkonferenz-kommune
 n-aktiv-fuer-den-klimaschutz-am-05-mai-2026-in-bonn/fotolia-134244928-s-
 jozsitoeroe.jpg?cid=8r74.15nvv
UID:84deb248-62dd-4e8f-baf8-90a7821de3c9
END:VEVENT
END:VCALENDAR
